BEGIN:VCALENDAR
VERSION:2.0
METHOD:PUBLISH
PRODID:-//Accessible Web Design//My Calendar//http://www.joedolson.com//v//EN';
BEGIN:VEVENT
UID:6082-1987
LOCATION:
SUMMARY:伊藤:休診
DTSTAMP:20260318T000000
ORGANIZER;CN=imm:MAILTO:kadoya@imm.co.jp
DTSTART:20260318T000000
DTEND:20260318T010000
CATEGORIES:いわみざわ神経内科・内科
URL;VALUE=URI:
DESCRIPTION;ENCODING=QUOTED-PRINTABLE:伊藤医師：休診 
END:VEVENT
END:VCALENDAR