BEGIN:VCALENDAR
VERSION:2.0
METHOD:PUBLISH
PRODID:-//Accessible Web Design//My Calendar//http://www.joedolson.com//v//EN';
BEGIN:VEVENT
UID:5905-1810
LOCATION:
SUMMARY:午後休診
DTSTAMP:20251229T000000
ORGANIZER;CN=imm:MAILTO:kadoya@imm.co.jp
DTSTART:20251229T000000
DTEND:20251229T010000
CATEGORIES:いわみざわ神経内科・内科
URL;VALUE=URI:
DESCRIPTION;ENCODING=QUOTED-PRINTABLE:午後休診 
END:VEVENT
END:VCALENDAR