BEGIN:VCALENDAR
VERSION:2.0
METHOD:PUBLISH
PRODID:-//Accessible Web Design//My Calendar//http://www.joedolson.com//v//EN';
BEGIN:VEVENT
UID:5875-1780
LOCATION:
SUMMARY:休診日
DTSTAMP:20251124T000000
ORGANIZER;CN=imm:MAILTO:kadoya@imm.co.jp
DTSTART:20251124T000000
DTEND:20251124T010000
CATEGORIES:休診日
URL;VALUE=URI:
DESCRIPTION;ENCODING=QUOTED-PRINTABLE:振替休日 
END:VEVENT
END:VCALENDAR