BEGIN:VCALENDAR
VERSION:2.0
METHOD:PUBLISH
PRODID:-//Accessible Web Design//My Calendar//http://www.joedolson.com//v//EN';
BEGIN:VEVENT
UID:5786-1691
LOCATION:
SUMMARY:伊藤:17時終了
DTSTAMP:20251003
ORGANIZER;CN=imm:MAILTO:kadoya@imm.co.jp
DTSTART:20251003
DTEND:20251004
CATEGORIES:いわみざわ神経内科・内科
URL;VALUE=URI:
DESCRIPTION;ENCODING=QUOTED-PRINTABLE:伊藤医師：１７時まで診療 
X-FUNAMBOL-ALLDAY: 1
X-MICROSOFT-CDO-ALLDAYEVENT: TRUE

END:VEVENT
END:VCALENDAR